BEGIN:VCALENDAR
VERSION:2.0
PRODID:-//Cross Creek Nursery and Landscape - ECPv6.15.20//NONSGML v1.0//EN
CALSCALE:GREGORIAN
METHOD:PUBLISH
X-WR-CALNAME:Cross Creek Nursery and Landscape
X-ORIGINAL-URL:https://www.crosscreeknursery.com
X-WR-CALDESC:Events for Cross Creek Nursery and Landscape
REFRESH-INTERVAL;VALUE=DURATION:PT1H
X-Robots-Tag:noindex
X-PUBLISHED-TTL:PT1H
BEGIN:VTIMEZONE
TZID:America/New_York
BEGIN:DAYLIGHT
TZOFFSETFROM:-0500
TZOFFSETTO:-0400
TZNAME:EDT
DTSTART:20230312T070000
END:DAYLIGHT
BEGIN:STANDARD
TZOFFSETFROM:-0400
TZOFFSETTO:-0500
TZNAME:EST
DTSTART:20231105T060000
END:STANDARD
BEGIN:DAYLIGHT
TZOFFSETFROM:-0500
TZOFFSETTO:-0400
TZNAME:EDT
DTSTART:20240310T070000
END:DAYLIGHT
BEGIN:STANDARD
TZOFFSETFROM:-0400
TZOFFSETTO:-0500
TZNAME:EST
DTSTART:20241103T060000
END:STANDARD
BEGIN:DAYLIGHT
TZOFFSETFROM:-0500
TZOFFSETTO:-0400
TZNAME:EDT
DTSTART:20250309T070000
END:DAYLIGHT
BEGIN:STANDARD
TZOFFSETFROM:-0400
TZOFFSETTO:-0500
TZNAME:EST
DTSTART:20251102T060000
END:STANDARD
END:VTIMEZONE
BEGIN:VEVENT
DTSTART;VALUE=DATE:20240921
DTEND;VALUE=DATE:20240923
DTSTAMP:20260423T063100
CREATED:20240822T145429Z
LAST-MODIFIED:20240822T145429Z
UID:16458-1726876800-1727049599@www.crosscreeknursery.com
SUMMARY:Fall Fest!
DESCRIPTION:Join us at both Cross Creek locations for Fall Fest weekends!\nEvery Saturday & Sunday…Starting September 21st through October 27th \nPumpkins\, Mums\, Pansies\, Local Vendors & all things Cross Creek!
URL:https://www.crosscreeknursery.com/event/fall-fest/
LOCATION:VA
CATEGORIES:Kid's,Midlothian,West End
END:VEVENT
BEGIN:VEVENT
DTSTART;VALUE=DATE:20240921
DTEND;VALUE=DATE:20240923
DTSTAMP:20260423T063100
CREATED:20240822T145429Z
LAST-MODIFIED:20240822T145429Z
UID:18265-1726876800-1727049599@www.crosscreeknursery.com
SUMMARY:Fall Fest!
DESCRIPTION:Join us at both Cross Creek locations for Fall Fest weekends!\nEvery Saturday & Sunday…Starting September 21st through October 27th \nPumpkins\, Mums\, Pansies\, Local Vendors & all things Cross Creek!
URL:https://www.crosscreeknursery.com/event/fall-fest-6/
LOCATION:VA
CATEGORIES:Kid's,Midlothian,West End
END:VEVENT
BEGIN:VEVENT
DTSTART;TZID=America/New_York:20240921T110000
DTEND;TZID=America/New_York:20240921T120000
DTSTAMP:20260423T063100
CREATED:20240827T150715Z
LAST-MODIFIED:20240827T150730Z
UID:16502-1726916400-1726920000@www.crosscreeknursery.com
SUMMARY:West End Workshop: Creating Candles with Fresh Flowers
DESCRIPTION:Learn the process of designing and pouring your own candle with Kat and Sarah. We’ll cover the basics of candle making along with how to utilize fresh flowers harvested from the garden to add natural color!.
URL:https://www.crosscreeknursery.com/event/west-end-workshop-creating-candles-with-fresh-flowers/
LOCATION:Cross Creek – West End\, 15503 Ashland Rd\, Rockville\, VA\, 23146\, United States
CATEGORIES:West End
END:VEVENT
BEGIN:VEVENT
DTSTART;TZID=America/New_York:20240921T110000
DTEND;TZID=America/New_York:20240921T120000
DTSTAMP:20260423T063100
CREATED:20240827T150715Z
LAST-MODIFIED:20240827T150715Z
UID:18273-1726916400-1726920000@www.crosscreeknursery.com
SUMMARY:West End Workshop: Creating Candles with Fresh Flowers
DESCRIPTION:Learn the process of designing and pouring your own candle with Kat and Sarah. We’ll cover the basics of candle making along with how to utilize fresh flowers harvested from the garden to add natural color!.
URL:https://www.crosscreeknursery.com/event/west-end-workshop-creating-candles-with-fresh-flowers-2/
LOCATION:Cross Creek – West End\, 15503 Ashland Rd\, Rockville\, VA\, 23146\, United States
CATEGORIES:West End
END:VEVENT
BEGIN:VEVENT
DTSTART;TZID=America/New_York:20240921T120000
DTEND;TZID=America/New_York:20240921T130000
DTSTAMP:20260423T063100
CREATED:20240827T151128Z
LAST-MODIFIED:20240827T151143Z
UID:16504-1726920000-1726923600@www.crosscreeknursery.com
SUMMARY:Kid's Workshop (West End): Decorating Pillow Cases
DESCRIPTION:We’re creating handmade flower painted pillow cases! Edie will walk us through how to use fabric paint to create a unique design to add a handmade aspect to your home.
URL:https://www.crosscreeknursery.com/event/kids-workshop-west-end-decorating-pillow-cases/
LOCATION:Cross Creek – West End\, 15503 Ashland Rd\, Rockville\, VA\, 23146\, United States
CATEGORIES:Kid's,West End
ORGANIZER;CN="Gaby Bolanos":MAILTO:gaby.bolanos@crosscreeknursery.com
END:VEVENT
BEGIN:VEVENT
DTSTART;TZID=America/New_York:20240921T120000
DTEND;TZID=America/New_York:20240921T130000
DTSTAMP:20260423T063100
CREATED:20240827T151128Z
LAST-MODIFIED:20240827T151128Z
UID:18274-1726920000-1726923600@www.crosscreeknursery.com
SUMMARY:Kid's Workshop (West End): Decorating Pillow Cases
DESCRIPTION:We’re creating handmade flower painted pillow cases! Edie will walk us through how to use fabric paint to create a unique design to add a handmade aspect to your home.
URL:https://www.crosscreeknursery.com/event/kids-workshop-west-end-decorating-pillow-cases-2/
LOCATION:Cross Creek – West End\, 15503 Ashland Rd\, Rockville\, VA\, 23146\, United States
CATEGORIES:Kid's,West End
ORGANIZER;CN="Gaby Bolanos":MAILTO:gaby.bolanos@crosscreeknursery.com
END:VEVENT
END:VCALENDAR