BEGIN:VCALENDAR
VERSION:2.0
PRODID:-//Cross Creek Nursery and Landscape - ECPv6.15.20//NONSGML v1.0//EN
CALSCALE:GREGORIAN
METHOD:PUBLISH
X-WR-CALNAME:Cross Creek Nursery and Landscape
X-ORIGINAL-URL:https://www.crosscreeknursery.com
X-WR-CALDESC:Events for Cross Creek Nursery and Landscape
REFRESH-INTERVAL;VALUE=DURATION:PT1H
X-Robots-Tag:noindex
X-PUBLISHED-TTL:PT1H
BEGIN:VTIMEZONE
TZID:America/New_York
BEGIN:DAYLIGHT
TZOFFSETFROM:-0500
TZOFFSETTO:-0400
TZNAME:EDT
DTSTART:20250309T070000
END:DAYLIGHT
BEGIN:STANDARD
TZOFFSETFROM:-0400
TZOFFSETTO:-0500
TZNAME:EST
DTSTART:20251102T060000
END:STANDARD
BEGIN:DAYLIGHT
TZOFFSETFROM:-0500
TZOFFSETTO:-0400
TZNAME:EDT
DTSTART:20260308T070000
END:DAYLIGHT
BEGIN:STANDARD
TZOFFSETFROM:-0400
TZOFFSETTO:-0500
TZNAME:EST
DTSTART:20261101T060000
END:STANDARD
BEGIN:DAYLIGHT
TZOFFSETFROM:-0500
TZOFFSETTO:-0400
TZNAME:EDT
DTSTART:20270314T070000
END:DAYLIGHT
BEGIN:STANDARD
TZOFFSETFROM:-0400
TZOFFSETTO:-0500
TZNAME:EST
DTSTART:20271107T060000
END:STANDARD
END:VTIMEZONE
BEGIN:VEVENT
DTSTART;TZID=America/New_York:20260314T100000
DTEND;TZID=America/New_York:20260314T110000
DTSTAMP:20260420T125418
CREATED:20260204T150946Z
LAST-MODIFIED:20260302T134740Z
UID:22343-1773482400-1773486000@www.crosscreeknursery.com
SUMMARY:Midlothian Kids' Workshop: Leprechaun Gardens
DESCRIPTION:Join us at our Midlothian location for a magical kids’ workshop where little gardeners will create their very own leprechaun garden. Children will design a miniature garden using plants\, soil\, and festive decorations to build a whimsical space perfect for St. Patrick’s Day fun. This hands on workshop encourages creativity and imagination while learning the basics of planting. All materials are included\, and kids will leave with their own garden creation to take home. \n📅: Saturday\, March 14th at 10am at our Midlothian Nursery \n  \n  \n			\n			\n				\n				\n				\n				\n				\n				\n				\n				\n				\n				Register to attend:\nOnline registration has closed for this workshop\, but you are welcome to come by and sign up in person if spots are still available. \nThis class has reached capacity!\nFeel free to select from another available workshop. \ngaby.bolanos@crosscreeknursery.com
URL:https://www.crosscreeknursery.com/event/midlothian-kids-workshop-leprechaun-gardens/
LOCATION:Cross Creek – Midlothian\, 501 Courthouse Rd\, Richmond\, VA\, 23236\, United States
CATEGORIES:Kid's,Midlothian
ATTACH;FMTTYPE=image/png:https://www.crosscreeknursery.com/wp-content/uploads/2025/08/cross-creek-nursery-kids-workshop-e1759927655517.png
END:VEVENT
END:VCALENDAR