BEGIN:VCALENDAR
VERSION:2.0
PRODID:-//Cross Creek Nursery and Landscape - ECPv6.15.20//NONSGML v1.0//EN
CALSCALE:GREGORIAN
METHOD:PUBLISH
X-WR-CALNAME:Cross Creek Nursery and Landscape
X-ORIGINAL-URL:https://www.crosscreeknursery.com
X-WR-CALDESC:Events for Cross Creek Nursery and Landscape
REFRESH-INTERVAL;VALUE=DURATION:PT1H
X-Robots-Tag:noindex
X-PUBLISHED-TTL:PT1H
BEGIN:VTIMEZONE
TZID:America/New_York
BEGIN:DAYLIGHT
TZOFFSETFROM:-0500
TZOFFSETTO:-0400
TZNAME:EDT
DTSTART:20230312T070000
END:DAYLIGHT
BEGIN:STANDARD
TZOFFSETFROM:-0400
TZOFFSETTO:-0500
TZNAME:EST
DTSTART:20231105T060000
END:STANDARD
BEGIN:DAYLIGHT
TZOFFSETFROM:-0500
TZOFFSETTO:-0400
TZNAME:EDT
DTSTART:20240310T070000
END:DAYLIGHT
BEGIN:STANDARD
TZOFFSETFROM:-0400
TZOFFSETTO:-0500
TZNAME:EST
DTSTART:20241103T060000
END:STANDARD
BEGIN:DAYLIGHT
TZOFFSETFROM:-0500
TZOFFSETTO:-0400
TZNAME:EDT
DTSTART:20250309T070000
END:DAYLIGHT
BEGIN:STANDARD
TZOFFSETFROM:-0400
TZOFFSETTO:-0500
TZNAME:EST
DTSTART:20251102T060000
END:STANDARD
END:VTIMEZONE
BEGIN:VEVENT
DTSTART;TZID=America/New_York:20241017T180000
DTEND;TZID=America/New_York:20241017T190000
DTSTAMP:20260425T082740
CREATED:20240827T172839Z
LAST-MODIFIED:20240827T172839Z
UID:16557-1729188000-1729191600@www.crosscreeknursery.com
SUMMARY:Midlothian Workshop: Spooky Succulents
DESCRIPTION:As we get ready for Halloween join us at our Midlothian Nursery to design and create a Spooooky Succulent Planter. Each participant will select 3-4 succulents along with some Halloween accents to bring their creation to life. \nPlease enable JavaScript in your browser to complete this form.Your Name *FirstLastPhone *Email *How many people will be attending?OneTwoThreeTotal$0.00Stripe Credit Card *CardName on CardSubmit
URL:https://www.crosscreeknursery.com/event/midlothian-workshop-spooky-succulents/
LOCATION:Cross Creek – Midlothian\, 501 Courthouse Rd\, Richmond\, VA\, 23236\, United States
CATEGORIES:Midlothian
END:VEVENT
BEGIN:VEVENT
DTSTART;TZID=America/New_York:20241017T180000
DTEND;TZID=America/New_York:20241017T190000
DTSTAMP:20260425T082740
CREATED:20240827T172839Z
LAST-MODIFIED:20240827T172839Z
UID:18299-1729188000-1729191600@www.crosscreeknursery.com
SUMMARY:Midlothian Workshop: Spooky Succulents
DESCRIPTION:As we get ready for Halloween join us at our Midlothian Nursery to design and create a Spooooky Succulent Planter. Each participant will select 3-4 succulents along with some Halloween accents to bring their creation to life. \nPlease enable JavaScript in your browser to complete this form.Your Name *FirstLastPhone *Email *How many people will be attending?OneTwoThreeTotal$0.00Stripe Credit Card *CardName on CardSubmit
URL:https://www.crosscreeknursery.com/event/midlothian-workshop-spooky-succulents-2/
LOCATION:Cross Creek – Midlothian\, 501 Courthouse Rd\, Richmond\, VA\, 23236\, United States
CATEGORIES:Midlothian
END:VEVENT
END:VCALENDAR