BEGIN:VCALENDAR
VERSION:2.0
PRODID:-//Cross Creek Nursery and Landscape - ECPv6.15.20//NONSGML v1.0//EN
CALSCALE:GREGORIAN
METHOD:PUBLISH
X-ORIGINAL-URL:https://www.crosscreeknursery.com
X-WR-CALDESC:Events for Cross Creek Nursery and Landscape
REFRESH-INTERVAL;VALUE=DURATION:PT1H
X-Robots-Tag:noindex
X-PUBLISHED-TTL:PT1H
BEGIN:VTIMEZONE
TZID:America/New_York
BEGIN:DAYLIGHT
TZOFFSETFROM:-0500
TZOFFSETTO:-0400
TZNAME:EDT
DTSTART:20230312T070000
END:DAYLIGHT
BEGIN:STANDARD
TZOFFSETFROM:-0400
TZOFFSETTO:-0500
TZNAME:EST
DTSTART:20231105T060000
END:STANDARD
BEGIN:DAYLIGHT
TZOFFSETFROM:-0500
TZOFFSETTO:-0400
TZNAME:EDT
DTSTART:20240310T070000
END:DAYLIGHT
BEGIN:STANDARD
TZOFFSETFROM:-0400
TZOFFSETTO:-0500
TZNAME:EST
DTSTART:20241103T060000
END:STANDARD
BEGIN:DAYLIGHT
TZOFFSETFROM:-0500
TZOFFSETTO:-0400
TZNAME:EDT
DTSTART:20250309T070000
END:DAYLIGHT
BEGIN:STANDARD
TZOFFSETFROM:-0400
TZOFFSETTO:-0500
TZNAME:EST
DTSTART:20251102T060000
END:STANDARD
END:VTIMEZONE
BEGIN:VEVENT
DTSTART;TZID=America/New_York:20240925T180000
DTEND;TZID=America/New_York:20240925T193000
DTSTAMP:20260419T155633
CREATED:20240813T205105Z
LAST-MODIFIED:20240925T125351Z
UID:16394-1727287200-1727292600@www.crosscreeknursery.com
SUMMARY:Wine & Design (Midlothian): September
DESCRIPTION:Registration has been closed for this event. \n  \n  \n 
URL:https://www.crosscreeknursery.com/event/wine-design-west-end-september-2/
LOCATION:Cross Creek – Midlothian\, 501 Courthouse Rd\, Richmond\, VA\, 23236\, United States
CATEGORIES:Midlothian,Wine & Design
ORGANIZER;CN="Gaby Bolanos":MAILTO:gaby.bolanos@crosscreeknursery.com
END:VEVENT
BEGIN:VEVENT
DTSTART;TZID=America/New_York:20240925T180000
DTEND;TZID=America/New_York:20240925T193000
DTSTAMP:20260419T155633
CREATED:20240813T205105Z
LAST-MODIFIED:20240813T205105Z
UID:18262-1727287200-1727292600@www.crosscreeknursery.com
SUMMARY:Wine & Design (Midlothian): September
DESCRIPTION:Registration has been closed for this event. \n  \n  \n 
URL:https://www.crosscreeknursery.com/event/wine-design-west-end-september-2-2/
LOCATION:Cross Creek – Midlothian\, 501 Courthouse Rd\, Richmond\, VA\, 23236\, United States
CATEGORIES:Midlothian,Wine & Design
ORGANIZER;CN="Gaby Bolanos":MAILTO:gaby.bolanos@crosscreeknursery.com
END:VEVENT
END:VCALENDAR