BEGIN:VCALENDAR
VERSION:2.0
PRODID:-//Cross Creek Nursery and Landscape - ECPv6.15.20//NONSGML v1.0//EN
CALSCALE:GREGORIAN
METHOD:PUBLISH
X-WR-CALNAME:Cross Creek Nursery and Landscape
X-ORIGINAL-URL:https://www.crosscreeknursery.com
X-WR-CALDESC:Events for Cross Creek Nursery and Landscape
REFRESH-INTERVAL;VALUE=DURATION:PT1H
X-Robots-Tag:noindex
X-PUBLISHED-TTL:PT1H
BEGIN:VTIMEZONE
TZID:America/New_York
BEGIN:DAYLIGHT
TZOFFSETFROM:-0500
TZOFFSETTO:-0400
TZNAME:EDT
DTSTART:20250309T070000
END:DAYLIGHT
BEGIN:STANDARD
TZOFFSETFROM:-0400
TZOFFSETTO:-0500
TZNAME:EST
DTSTART:20251102T060000
END:STANDARD
BEGIN:DAYLIGHT
TZOFFSETFROM:-0500
TZOFFSETTO:-0400
TZNAME:EDT
DTSTART:20260308T070000
END:DAYLIGHT
BEGIN:STANDARD
TZOFFSETFROM:-0400
TZOFFSETTO:-0500
TZNAME:EST
DTSTART:20261101T060000
END:STANDARD
BEGIN:DAYLIGHT
TZOFFSETFROM:-0500
TZOFFSETTO:-0400
TZNAME:EDT
DTSTART:20270314T070000
END:DAYLIGHT
BEGIN:STANDARD
TZOFFSETFROM:-0400
TZOFFSETTO:-0500
TZNAME:EST
DTSTART:20271107T060000
END:STANDARD
END:VTIMEZONE
BEGIN:VEVENT
DTSTART;TZID=America/New_York:20260314T100000
DTEND;TZID=America/New_York:20260314T110000
DTSTAMP:20260420T105122
CREATED:20260204T150946Z
LAST-MODIFIED:20260302T134740Z
UID:22343-1773482400-1773486000@www.crosscreeknursery.com
SUMMARY:Midlothian Kids' Workshop: Leprechaun Gardens
DESCRIPTION:Join us at our Midlothian location for a magical kids’ workshop where little gardeners will create their very own leprechaun garden. Children will design a miniature garden using plants\, soil\, and festive decorations to build a whimsical space perfect for St. Patrick’s Day fun. This hands on workshop encourages creativity and imagination while learning the basics of planting. All materials are included\, and kids will leave with their own garden creation to take home. \n📅: Saturday\, March 14th at 10am at our Midlothian Nursery \n  \n  \n			\n			\n				\n				\n				\n				\n				\n				\n				\n				\n				\n				Register to attend:\nOnline registration has closed for this workshop\, but you are welcome to come by and sign up in person if spots are still available. \nThis class has reached capacity!\nFeel free to select from another available workshop. \ngaby.bolanos@crosscreeknursery.com
URL:https://www.crosscreeknursery.com/event/midlothian-kids-workshop-leprechaun-gardens/
LOCATION:Cross Creek – Midlothian\, 501 Courthouse Rd\, Richmond\, VA\, 23236\, United States
CATEGORIES:Kid's,Midlothian
ATTACH;FMTTYPE=image/png:https://www.crosscreeknursery.com/wp-content/uploads/2025/08/cross-creek-nursery-kids-workshop-e1759927655517.png
END:VEVENT
BEGIN:VEVENT
DTSTART;TZID=America/New_York:20260321T100000
DTEND;TZID=America/New_York:20260321T110000
DTSTAMP:20260420T105123
CREATED:20260204T151654Z
LAST-MODIFIED:20260204T151704Z
UID:22345-1774087200-1774090800@www.crosscreeknursery.com
SUMMARY:Midlothian Kids' Workshop: Bird Houses
DESCRIPTION:Join us at our Midlothian location for a fun and creative kids’ workshop where children will build and decorate their own bird house. Kids will learn the basics of helping backyard birds while designing a one of a kind bird house to take home and display. This hands on activity encourages creativity and an appreciation for nature in a playful\, engaging environment.  \n📅: Saturday\, March 21st at 10AM at our Midlothian Nursery \n  \n  \n			\n			\n				\n				\n				\n				\n				\n				\n				\n				\n				\n				Register to attend:\nOnline registration has closed for this workshop\, but you are welcome to come by and sign up in person if spots are still available. \nThis class has reached capacity!\nFeel free to select from another available workshop. \ngaby.bolanos@crosscreeknursery.com
URL:https://www.crosscreeknursery.com/event/midlothian-kids-workshop-bird-houses/
LOCATION:Cross Creek – Midlothian\, 501 Courthouse Rd\, Richmond\, VA\, 23236\, United States
CATEGORIES:Kid's,Midlothian
ATTACH;FMTTYPE=image/png:https://www.crosscreeknursery.com/wp-content/uploads/2025/08/cross-creek-nursery-kids-workshop-e1759927655517.png
END:VEVENT
BEGIN:VEVENT
DTSTART;TZID=America/New_York:20260325T180000
DTEND;TZID=America/New_York:20260325T200000
DTSTAMP:20260420T105123
CREATED:20260224T210346Z
LAST-MODIFIED:20260224T210353Z
UID:22706-1774461600-1774468800@www.crosscreeknursery.com
SUMMARY:Wine & Design (Midlothian): March
DESCRIPTION:Join us for a fun and creative Wine & Design Floral Workshop at Cross Creek Nursery in Midlothian! Whether you’re a seasoned florist or a beginner\, this hands-on class will guide you through crafting a beautiful floral arrangement. Bring your favorite bottle of wine to sip as you get inspired by the lush surroundings of the nursery and learn the art of designing with fresh\, seasonal flowers. It’s a perfect way to unwind\, socialize\, and leave with a gorgeous creation to brighten your space. Cheers to flowers\, wine\, and creativity! \n📅: Wednesday\, March 25th at 6PM at our Midlothian Nursery \n  \n  \n			\n			\n				\n				\n				\n				\n				\n				\n				\n				\n				\n				Register to attend:\nRegistration has closed for this workshop! \nPlease reach out to Cross Creek Florist to be added to a wait list.\ncustomerservice@crosscreeknursery.com \nRegistration has reach capacity for this workshop! \nPlease reach out to Cross Creek Florist to be added to a wait list.\ncustomerservice@crosscreeknursery.com \n   \n  \nPlease Note: If no registration form is shown\, we have reached maximum capacity for this workshop.
URL:https://www.crosscreeknursery.com/event/wine-design-midlothian-march-2/
LOCATION:Cross Creek – Midlothian\, 501 Courthouse Rd\, Richmond\, VA\, 23236\, United States
CATEGORIES:Midlothian,Wine & Design
ATTACH;FMTTYPE=image/png:https://www.crosscreeknursery.com/wp-content/uploads/2025/08/cross-creek-nursery-florist-winedesign.png
END:VEVENT
BEGIN:VEVENT
DTSTART;TZID=America/New_York:20260328T100000
DTEND;TZID=America/New_York:20260328T110000
DTSTAMP:20260420T105123
CREATED:20260204T152058Z
LAST-MODIFIED:20260209T163139Z
UID:22349-1774692000-1774695600@www.crosscreeknursery.com
SUMMARY:Spring Break Workshop (Midlothian): Mosaic Flower Pot
DESCRIPTION:Join us at our Midlothian location on March 28 for a fun and creative kids’ workshop where children will design their own mosaic flower pot. Kids will decorate a planter using colorful tiles and patterns\, then finish it off with a plant to take home. This hands on activity encourages creativity while introducing basic planting skills. All materials are included\, and no experience is needed. \n📅: Saturday\, March 28th at 10AM at our Midlothian Nursery \n  \n  \n			\n			\n				\n				\n				\n				\n				\n				\n				\n				\n				\n				Register to attend:\nOnline registration has closed for this workshop\, but you are welcome to come by and sign up in person if spots are still available. \nThis class has reached capacity!\nFeel free to select from another available workshop. \ngaby.bolanos@crosscreeknursery.com
URL:https://www.crosscreeknursery.com/event/spring-break-workshop-mosaic-flower-pot/
LOCATION:Cross Creek – Midlothian\, 501 Courthouse Rd\, Richmond\, VA\, 23236\, United States
CATEGORIES:Kid's,Midlothian
ATTACH;FMTTYPE=image/png:https://www.crosscreeknursery.com/wp-content/uploads/2025/08/cross-creek-nursery-kids-workshop-e1759927655517.png
END:VEVENT
BEGIN:VEVENT
DTSTART;TZID=America/New_York:20260329T110000
DTEND;TZID=America/New_York:20260329T140000
DTSTAMP:20260420T105123
CREATED:20260313T130621Z
LAST-MODIFIED:20260313T130633Z
UID:23023-1774782000-1774792800@www.crosscreeknursery.com
SUMMARY:Fairy Hair Pop-Up at Midlothian
DESCRIPTION:Join us for a fun pop-up with ElleuvaLook LLC! ✨ \nElla is a fairy hair artist who creates beautiful hair tinsel\, adding a little sparkle and magic to your look. Stop by to get your own shimmering strands and enjoy this fun\, unique experience! 💫 Book now or in person! \n  \n  \n			\n			\n				\n				\n				\n				\n				\n				Book Now
URL:https://www.crosscreeknursery.com/event/fairy-hair-pop-up-at-midlothian/
LOCATION:Cross Creek – Midlothian\, 501 Courthouse Rd\, Richmond\, VA\, 23236\, United States
CATEGORIES:Kid's,Midlothian
ATTACH;FMTTYPE=image/png:https://www.crosscreeknursery.com/wp-content/uploads/2025/08/cross-creek-nursery-kids-workshop-e1759927655517.png
END:VEVENT
BEGIN:VEVENT
DTSTART;TZID=America/New_York:20260330T100000
DTEND;TZID=America/New_York:20260330T110000
DTSTAMP:20260420T105123
CREATED:20260204T152704Z
LAST-MODIFIED:20260204T152712Z
UID:22352-1774864800-1774868400@www.crosscreeknursery.com
SUMMARY:Spring Break Workshop (Midlothian): Bee Bath
DESCRIPTION:Join us for a fun and educational Bee Bath Workshop for kids! In this hands-on activity\, children will learn about the important role bees play in our ecosystem and how to create a special bath for them. They’ll get to design and decorate their own bee-friendly water stations\, all while exploring the wonders of nature. This workshop is perfect for curious young minds to discover how they can help protect these essential pollinators. It’s a buzzing good time filled with creativity\, learning\, and lots of bee-inspired fun! \n📅: Monday\, March 30th at 10AM at our Midlothian Nursery \n  \n  \n			\n			\n				\n				\n				\n				\n				\n				\n				\n				\n				\n				Register to attend:\nOnline registration has closed for this workshop\, but you are welcome to come by and sign up in person if spots are still available. \nThis class has reached capacity!\nFeel free to select from another available workshop. \ngaby.bolanos@crosscreeknursery.com
URL:https://www.crosscreeknursery.com/event/spring-break-workshop-bee-bath/
LOCATION:Cross Creek – Midlothian\, 501 Courthouse Rd\, Richmond\, VA\, 23236\, United States
CATEGORIES:Kid's,Midlothian
ATTACH;FMTTYPE=image/png:https://www.crosscreeknursery.com/wp-content/uploads/2025/08/cross-creek-nursery-kids-workshop-e1759927655517.png
END:VEVENT
BEGIN:VEVENT
DTSTART;TZID=America/New_York:20260331T100000
DTEND;TZID=America/New_York:20260331T110000
DTSTAMP:20260420T105123
CREATED:20260204T153453Z
LAST-MODIFIED:20260204T153502Z
UID:22356-1774951200-1774954800@www.crosscreeknursery.com
SUMMARY:Spring Break Workshop (Midlothian): Flower Crowns
DESCRIPTION:Get ready for a blooming good time at our Flower Crown for kids! In this fun-filled day\, children will create their own beautiful flower crowns using colorful petals and greenery\, perfect for expressing their creativity. Join us for a day of fun\, creativity\, and nature-inspired exploration! \n📅: Tuesday\, March 31st at 10AM at our Midlothian Nursery \n  \n  \n			\n			\n				\n				\n				\n				\n				\n				\n				\n				\n				\n				Register to attend:\nOnline registration has closed for this workshop\, but you are welcome to come by and sign up in person if spots are still available. \nThis class has reached capacity!\nFeel free to select from another available workshop. \ngaby.bolanos@crosscreeknursery.com
URL:https://www.crosscreeknursery.com/event/spring-break-workshop-midlothian-flower-crowns/
LOCATION:Cross Creek – Midlothian\, 501 Courthouse Rd\, Richmond\, VA\, 23236\, United States
CATEGORIES:Kid's,Midlothian
ATTACH;FMTTYPE=image/png:https://www.crosscreeknursery.com/wp-content/uploads/2025/08/cross-creek-nursery-kids-workshop-e1759927655517.png
END:VEVENT
END:VCALENDAR