BEGIN:VCALENDAR
VERSION:2.0
PRODID:-//Cross Creek Nursery and Landscape - ECPv6.15.20//NONSGML v1.0//EN
CALSCALE:GREGORIAN
METHOD:PUBLISH
X-ORIGINAL-URL:https://www.crosscreeknursery.com
X-WR-CALDESC:Events for Cross Creek Nursery and Landscape
REFRESH-INTERVAL;VALUE=DURATION:PT1H
X-Robots-Tag:noindex
X-PUBLISHED-TTL:PT1H
BEGIN:VTIMEZONE
TZID:America/New_York
BEGIN:DAYLIGHT
TZOFFSETFROM:-0500
TZOFFSETTO:-0400
TZNAME:EDT
DTSTART:20230312T070000
END:DAYLIGHT
BEGIN:STANDARD
TZOFFSETFROM:-0400
TZOFFSETTO:-0500
TZNAME:EST
DTSTART:20231105T060000
END:STANDARD
BEGIN:DAYLIGHT
TZOFFSETFROM:-0500
TZOFFSETTO:-0400
TZNAME:EDT
DTSTART:20240310T070000
END:DAYLIGHT
BEGIN:STANDARD
TZOFFSETFROM:-0400
TZOFFSETTO:-0500
TZNAME:EST
DTSTART:20241103T060000
END:STANDARD
BEGIN:DAYLIGHT
TZOFFSETFROM:-0500
TZOFFSETTO:-0400
TZNAME:EDT
DTSTART:20250309T070000
END:DAYLIGHT
BEGIN:STANDARD
TZOFFSETFROM:-0400
TZOFFSETTO:-0500
TZNAME:EST
DTSTART:20251102T060000
END:STANDARD
END:VTIMEZONE
BEGIN:VEVENT
DTSTART;TZID=America/New_York:20241102T100000
DTEND;TZID=America/New_York:20241102T110000
DTSTAMP:20260419T103559
CREATED:20240827T162833Z
LAST-MODIFIED:20240827T162833Z
UID:16549-1730541600-1730545200@www.crosscreeknursery.com
SUMMARY:Kid's Workshop (Midlothian): Bean Mosaic Art
DESCRIPTION:Here at Cross Creek we’re bean artists – and you can be too! Let’s create Fall Bean Mosaics together. These will make the best fridge art or seasonal decor from your tiny artist(s). \nPlease enable JavaScript in your browser to complete this form.Your Name *FirstLastPhone *Email *How many people will be attending?One - $10.00Two - $20.00Three - $30.00Total$0.00Stripe Credit Card *CardName on CardSubmit
URL:https://www.crosscreeknursery.com/event/kids-workshop-midlothian-bean-mosaic-art/
LOCATION:Cross Creek – Midlothian\, 501 Courthouse Rd\, Richmond\, VA\, 23236\, United States
CATEGORIES:Kid's,Midlothian
ORGANIZER;CN="Gaby Bolanos":MAILTO:gaby.bolanos@crosscreeknursery.com
END:VEVENT
BEGIN:VEVENT
DTSTART;TZID=America/New_York:20241102T100000
DTEND;TZID=America/New_York:20241102T110000
DTSTAMP:20260419T103559
CREATED:20240827T162833Z
LAST-MODIFIED:20240827T162833Z
UID:18295-1730541600-1730545200@www.crosscreeknursery.com
SUMMARY:Kid's Workshop (Midlothian): Bean Mosaic Art
DESCRIPTION:Here at Cross Creek we’re bean artists – and you can be too! Let’s create Fall Bean Mosaics together. These will make the best fridge art or seasonal decor from your tiny artist(s). \nPlease enable JavaScript in your browser to complete this form.Your Name *FirstLastPhone *Email *How many people will be attending?One - $10.00Two - $20.00Three - $30.00Total$0.00Stripe Credit Card *CardName on CardSubmit
URL:https://www.crosscreeknursery.com/event/kids-workshop-midlothian-bean-mosaic-art-2/
LOCATION:Cross Creek – Midlothian\, 501 Courthouse Rd\, Richmond\, VA\, 23236\, United States
CATEGORIES:Kid's,Midlothian
ORGANIZER;CN="Gaby Bolanos":MAILTO:gaby.bolanos@crosscreeknursery.com
END:VEVENT
BEGIN:VEVENT
DTSTART;TZID=America/New_York:20241109T100000
DTEND;TZID=America/New_York:20241109T110000
DTSTAMP:20260419T103559
CREATED:20240827T162939Z
LAST-MODIFIED:20240827T162939Z
UID:16551-1731146400-1731150000@www.crosscreeknursery.com
SUMMARY:Kid's Workshop (Midlothian): Beaded Corn
DESCRIPTION:Beaded corn made with pipe cleaners is a fall craft that is easy and beautiful. A simple fall corn craft for kids and adults! \nOnline registration for this workshop has closed. \nPlease reach out to M.V. Ness to check if there are any available seats. Thank you!\nmv.ness@crosscreeknursery.com
URL:https://www.crosscreeknursery.com/event/kids-workshop-midlothian-beaded-corn/
LOCATION:Cross Creek – Midlothian\, 501 Courthouse Rd\, Richmond\, VA\, 23236\, United States
CATEGORIES:Kid's,Midlothian
ORGANIZER;CN="Gaby Bolanos":MAILTO:gaby.bolanos@crosscreeknursery.com
END:VEVENT
BEGIN:VEVENT
DTSTART;TZID=America/New_York:20241109T100000
DTEND;TZID=America/New_York:20241109T110000
DTSTAMP:20260419T103559
CREATED:20240827T162939Z
LAST-MODIFIED:20240827T162939Z
UID:18296-1731146400-1731150000@www.crosscreeknursery.com
SUMMARY:Kid's Workshop (Midlothian): Beaded Corn
DESCRIPTION:Beaded corn made with pipe cleaners is a fall craft that is easy and beautiful. A simple fall corn craft for kids and adults! \nOnline registration for this workshop has closed. \nPlease reach out to M.V. Ness to check if there are any available seats. Thank you!\nmv.ness@crosscreeknursery.com
URL:https://www.crosscreeknursery.com/event/kids-workshop-midlothian-beaded-corn-2/
LOCATION:Cross Creek – Midlothian\, 501 Courthouse Rd\, Richmond\, VA\, 23236\, United States
CATEGORIES:Kid's,Midlothian
ORGANIZER;CN="Gaby Bolanos":MAILTO:gaby.bolanos@crosscreeknursery.com
END:VEVENT
BEGIN:VEVENT
DTSTART;TZID=America/New_York:20241116T100000
DTEND;TZID=America/New_York:20241116T110000
DTSTAMP:20260419T103559
CREATED:20240827T163058Z
LAST-MODIFIED:20240827T163058Z
UID:18297-1731751200-1731754800@www.crosscreeknursery.com
SUMMARY:Kid's Workshop (Midlothian): Wood Slice Turkeys
DESCRIPTION:Cute little turkey craft that will look adorable on the Thanksgiving table! \nOnline registration for this workshop has closed. \nPlease reach out to M.V. Ness to check if there are any available seats. Thank you!\nmv.ness@crosscreeknursery.com
URL:https://www.crosscreeknursery.com/event/kids-workshop-midlothian-wood-slice-turkeys-2/
LOCATION:Cross Creek – Midlothian\, 501 Courthouse Rd\, Richmond\, VA\, 23236\, United States
CATEGORIES:Kid's,Midlothian
ORGANIZER;CN="Gaby Bolanos":MAILTO:gaby.bolanos@crosscreeknursery.com
END:VEVENT
BEGIN:VEVENT
DTSTART;TZID=America/New_York:20241116T100000
DTEND;TZID=America/New_York:20241116T110000
DTSTAMP:20260419T103559
CREATED:20240827T163058Z
LAST-MODIFIED:20240827T163058Z
UID:16553-1731751200-1731754800@www.crosscreeknursery.com
SUMMARY:Kid's Workshop (Midlothian): Wood Slice Turkeys
DESCRIPTION:Cute little turkey craft that will look adorable on the Thanksgiving table! \nOnline registration for this workshop has closed. \nPlease reach out to M.V. Ness to check if there are any available seats. Thank you!\nmv.ness@crosscreeknursery.com
URL:https://www.crosscreeknursery.com/event/kids-workshop-midlothian-wood-slice-turkeys/
LOCATION:Cross Creek – Midlothian\, 501 Courthouse Rd\, Richmond\, VA\, 23236\, United States
CATEGORIES:Kid's,Midlothian
ORGANIZER;CN="Gaby Bolanos":MAILTO:gaby.bolanos@crosscreeknursery.com
END:VEVENT
BEGIN:VEVENT
DTSTART;TZID=America/New_York:20241119T180000
DTEND;TZID=America/New_York:20241119T190000
DTSTAMP:20260419T103559
CREATED:20241023T151828Z
LAST-MODIFIED:20241023T152215Z
UID:16754-1732039200-1732042800@www.crosscreeknursery.com
SUMMARY:Holiday Wreath Workshop (Midlothian)
DESCRIPTION:Please enable JavaScript in your browser to complete this form.Your Name *FirstLastPhone *Email *How many people will be attending?OneTwoThreeTotal$0.00Stripe Credit Card *CardName on CardSubmit
URL:https://www.crosscreeknursery.com/event/holiday-wreath-workshop-midlothian/
LOCATION:Cross Creek – Midlothian\, 501 Courthouse Rd\, Richmond\, VA\, 23236\, United States
CATEGORIES:Midlothian
ORGANIZER;CN="Gaby Bolanos":MAILTO:gaby.bolanos@crosscreeknursery.com
END:VEVENT
BEGIN:VEVENT
DTSTART;TZID=America/New_York:20241119T180000
DTEND;TZID=America/New_York:20241119T190000
DTSTAMP:20260419T103559
CREATED:20241023T151828Z
LAST-MODIFIED:20241023T151828Z
UID:18305-1732039200-1732042800@www.crosscreeknursery.com
SUMMARY:Holiday Wreath Workshop (Midlothian)
DESCRIPTION:Please enable JavaScript in your browser to complete this form.Your Name *FirstLastPhone *Email *How many people will be attending?OneTwoThreeTotal$0.00Stripe Credit Card *CardName on CardSubmit
URL:https://www.crosscreeknursery.com/event/holiday-wreath-workshop-midlothian-9/
LOCATION:Cross Creek – Midlothian\, 501 Courthouse Rd\, Richmond\, VA\, 23236\, United States
CATEGORIES:Midlothian
ORGANIZER;CN="Gaby Bolanos":MAILTO:gaby.bolanos@crosscreeknursery.com
END:VEVENT
BEGIN:VEVENT
DTSTART;TZID=America/New_York:20241120T180000
DTEND;TZID=America/New_York:20241120T190000
DTSTAMP:20260419T103559
CREATED:20241023T154106Z
LAST-MODIFIED:20241023T154106Z
UID:16767-1732125600-1732129200@www.crosscreeknursery.com
SUMMARY:Holiday Wreath Workshop (Midlothian)
DESCRIPTION:Please enable JavaScript in your browser to complete this form.Your Name *FirstLastPhone *Email *How many people will be attending?OneTwoThreeTotal$0.00Stripe Credit Card *CardName on CardSubmit
URL:https://www.crosscreeknursery.com/event/holiday-wreath-workshop-midlothian-2/
LOCATION:Cross Creek – Midlothian\, 501 Courthouse Rd\, Richmond\, VA\, 23236\, United States
CATEGORIES:Midlothian
ORGANIZER;CN="Gaby Bolanos":MAILTO:gaby.bolanos@crosscreeknursery.com
END:VEVENT
BEGIN:VEVENT
DTSTART;TZID=America/New_York:20241120T180000
DTEND;TZID=America/New_York:20241120T190000
DTSTAMP:20260419T103559
CREATED:20241023T154106Z
LAST-MODIFIED:20241023T154106Z
UID:18306-1732125600-1732129200@www.crosscreeknursery.com
SUMMARY:Holiday Wreath Workshop (Midlothian)
DESCRIPTION:Please enable JavaScript in your browser to complete this form.Your Name *FirstLastPhone *Email *How many people will be attending?OneTwoThreeTotal$0.00Stripe Credit Card *CardName on CardSubmit
URL:https://www.crosscreeknursery.com/event/holiday-wreath-workshop-midlothian-2-2/
LOCATION:Cross Creek – Midlothian\, 501 Courthouse Rd\, Richmond\, VA\, 23236\, United States
CATEGORIES:Midlothian
ORGANIZER;CN="Gaby Bolanos":MAILTO:gaby.bolanos@crosscreeknursery.com
END:VEVENT
BEGIN:VEVENT
DTSTART;TZID=America/New_York:20241121T160000
DTEND;TZID=America/New_York:20241121T190000
DTSTAMP:20260419T103559
CREATED:20240906T131032Z
LAST-MODIFIED:20240906T131032Z
UID:16592-1732204800-1732215600@www.crosscreeknursery.com
SUMMARY:Holiday Open House (Midlothian)
DESCRIPTION:Join us at our Midlothian Nursery to kick off the Holiday Season!
URL:https://www.crosscreeknursery.com/event/holiday-open-house-midlothian/
LOCATION:Cross Creek – Midlothian\, 501 Courthouse Rd\, Richmond\, VA\, 23236\, United States
CATEGORIES:Kid's,Midlothian
END:VEVENT
BEGIN:VEVENT
DTSTART;TZID=America/New_York:20241121T160000
DTEND;TZID=America/New_York:20241121T190000
DTSTAMP:20260419T103559
CREATED:20240906T131032Z
LAST-MODIFIED:20240906T131032Z
UID:18302-1732204800-1732215600@www.crosscreeknursery.com
SUMMARY:Holiday Open House (Midlothian)
DESCRIPTION:Join us at our Midlothian Nursery to kick off the Holiday Season!
URL:https://www.crosscreeknursery.com/event/holiday-open-house-midlothian-2/
LOCATION:Cross Creek – Midlothian\, 501 Courthouse Rd\, Richmond\, VA\, 23236\, United States
CATEGORIES:Kid's,Midlothian
END:VEVENT
BEGIN:VEVENT
DTSTART;TZID=America/New_York:20241123T100000
DTEND;TZID=America/New_York:20241123T110000
DTSTAMP:20260419T103559
CREATED:20241106T142103Z
LAST-MODIFIED:20241106T142103Z
UID:16864-1732356000-1732359600@www.crosscreeknursery.com
SUMMARY:Kid's Workshop (Midlothian): Nature Bracelets
DESCRIPTION:Join us for an adventure around the Midlothian Nursery to great your very own Nature Bracelet! You will get to stick your treasures to your bracelet as we go\, and create the best accessory to remember a fun morning at Cross Creek! \nOnline registration has closed for this workshop.\nPlease reach out to M.V. Ness to see if there are available seats. Thank you! \nmv.ness@crosscreeknursery.com \nThis class has reached capacity!\nPlease reach out to M.V. Ness to be added to the wait list\, or select from another available workshop. \nmv.ness@crosscreeknursery.com
URL:https://www.crosscreeknursery.com/event/kids-workshop-midlothian-nature-bracelets/
LOCATION:Cross Creek – Midlothian\, 501 Courthouse Rd\, Richmond\, VA\, 23236\, United States
CATEGORIES:Kid's,Midlothian
ORGANIZER;CN="Gaby Bolanos":MAILTO:gaby.bolanos@crosscreeknursery.com
END:VEVENT
BEGIN:VEVENT
DTSTART;TZID=America/New_York:20241123T100000
DTEND;TZID=America/New_York:20241123T110000
DTSTAMP:20260419T103559
CREATED:20241106T142103Z
LAST-MODIFIED:20241106T142103Z
UID:18321-1732356000-1732359600@www.crosscreeknursery.com
SUMMARY:Kid's Workshop (Midlothian): Nature Bracelets
DESCRIPTION:Join us for an adventure around the Midlothian Nursery to great your very own Nature Bracelet! You will get to stick your treasures to your bracelet as we go\, and create the best accessory to remember a fun morning at Cross Creek! \nOnline registration has closed for this workshop.\nPlease reach out to M.V. Ness to see if there are available seats. Thank you! \nmv.ness@crosscreeknursery.com \nThis class has reached capacity!\nPlease reach out to M.V. Ness to be added to the wait list\, or select from another available workshop. \nmv.ness@crosscreeknursery.com
URL:https://www.crosscreeknursery.com/event/kids-workshop-midlothian-nature-bracelets-2/
LOCATION:Cross Creek – Midlothian\, 501 Courthouse Rd\, Richmond\, VA\, 23236\, United States
CATEGORIES:Kid's,Midlothian
ORGANIZER;CN="Gaby Bolanos":MAILTO:gaby.bolanos@crosscreeknursery.com
END:VEVENT
BEGIN:VEVENT
DTSTART;TZID=America/New_York:20241126T180000
DTEND;TZID=America/New_York:20241126T190000
DTSTAMP:20260419T103559
CREATED:20241023T154247Z
LAST-MODIFIED:20241023T154247Z
UID:16768-1732644000-1732647600@www.crosscreeknursery.com
SUMMARY:Holiday Wreath Workshop (Midlothian)
DESCRIPTION:Online registration has closed for this workshop.\nPlease reach out to M.V. Ness to be added to the wait list\, or select from another date. \nThank you! \nThis workshop has reached capacity!\nPlease reach out to M.V. Ness to be added to the wait list\, or select from another date. \nThank you!
URL:https://www.crosscreeknursery.com/event/holiday-wreath-workshop-midlothian-3/
LOCATION:Cross Creek – Midlothian\, 501 Courthouse Rd\, Richmond\, VA\, 23236\, United States
CATEGORIES:Midlothian
ORGANIZER;CN="Gaby Bolanos":MAILTO:gaby.bolanos@crosscreeknursery.com
END:VEVENT
BEGIN:VEVENT
DTSTART;TZID=America/New_York:20241126T180000
DTEND;TZID=America/New_York:20241126T190000
DTSTAMP:20260419T103559
CREATED:20241023T154247Z
LAST-MODIFIED:20241023T154247Z
UID:18307-1732644000-1732647600@www.crosscreeknursery.com
SUMMARY:Holiday Wreath Workshop (Midlothian)
DESCRIPTION:Online registration has closed for this workshop.\nPlease reach out to M.V. Ness to be added to the wait list\, or select from another date. \nThank you! \nThis workshop has reached capacity!\nPlease reach out to M.V. Ness to be added to the wait list\, or select from another date. \nThank you!
URL:https://www.crosscreeknursery.com/event/holiday-wreath-workshop-midlothian-3-2/
LOCATION:Cross Creek – Midlothian\, 501 Courthouse Rd\, Richmond\, VA\, 23236\, United States
CATEGORIES:Midlothian
ORGANIZER;CN="Gaby Bolanos":MAILTO:gaby.bolanos@crosscreeknursery.com
END:VEVENT
BEGIN:VEVENT
DTSTART;TZID=America/New_York:20241127T140000
DTEND;TZID=America/New_York:20241127T150000
DTSTAMP:20260419T103559
CREATED:20241023T154336Z
LAST-MODIFIED:20241023T154757Z
UID:16769-1732716000-1732719600@www.crosscreeknursery.com
SUMMARY:Holiday Wreath Workshop (Midlothian)
DESCRIPTION:Online registration has closed for this workshop.\nPlease reach out to M.V. Ness to be added to the wait list\, or select from another date. \nThank you! \nThis workshop has reached capacity!\nPlease reach out to M.V. Ness to be added to the wait list\, or select from another date. \nThank you!
URL:https://www.crosscreeknursery.com/event/holiday-wreath-workshop-midlothian-4/
LOCATION:Cross Creek – Midlothian\, 501 Courthouse Rd\, Richmond\, VA\, 23236\, United States
CATEGORIES:Midlothian
ORGANIZER;CN="Gaby Bolanos":MAILTO:gaby.bolanos@crosscreeknursery.com
END:VEVENT
BEGIN:VEVENT
DTSTART;TZID=America/New_York:20241127T140000
DTEND;TZID=America/New_York:20241127T150000
DTSTAMP:20260419T103559
CREATED:20241023T154336Z
LAST-MODIFIED:20241023T154336Z
UID:18308-1732716000-1732719600@www.crosscreeknursery.com
SUMMARY:Holiday Wreath Workshop (Midlothian)
DESCRIPTION:Online registration has closed for this workshop.\nPlease reach out to M.V. Ness to be added to the wait list\, or select from another date. \nThank you! \nThis workshop has reached capacity!\nPlease reach out to M.V. Ness to be added to the wait list\, or select from another date. \nThank you!
URL:https://www.crosscreeknursery.com/event/holiday-wreath-workshop-midlothian-4-2/
LOCATION:Cross Creek – Midlothian\, 501 Courthouse Rd\, Richmond\, VA\, 23236\, United States
CATEGORIES:Midlothian
ORGANIZER;CN="Gaby Bolanos":MAILTO:gaby.bolanos@crosscreeknursery.com
END:VEVENT
BEGIN:VEVENT
DTSTART;VALUE=DATE:20241128
DTEND;VALUE=DATE:20241129
DTSTAMP:20260419T103559
CREATED:20241106T144420Z
LAST-MODIFIED:20241106T144420Z
UID:16872-1732752000-1732838399@www.crosscreeknursery.com
SUMMARY:CLOSED - Happy Thanksgiving!
DESCRIPTION:
URL:https://www.crosscreeknursery.com/event/closed-happy-thanksgiving/
LOCATION:VA
CATEGORIES:Midlothian,West End
END:VEVENT
BEGIN:VEVENT
DTSTART;VALUE=DATE:20241128
DTEND;VALUE=DATE:20241129
DTSTAMP:20260419T103559
CREATED:20241106T144420Z
LAST-MODIFIED:20241106T144420Z
UID:18329-1732752000-1732838399@www.crosscreeknursery.com
SUMMARY:CLOSED - Happy Thanksgiving!
DESCRIPTION:
URL:https://www.crosscreeknursery.com/event/closed-happy-thanksgiving-2/
LOCATION:VA
CATEGORIES:Midlothian,West End
END:VEVENT
BEGIN:VEVENT
DTSTART;TZID=America/New_York:20241129T140000
DTEND;TZID=America/New_York:20241129T150000
DTSTAMP:20260419T103559
CREATED:20241023T154448Z
LAST-MODIFIED:20241023T154448Z
UID:16770-1732888800-1732892400@www.crosscreeknursery.com
SUMMARY:Holiday Wreath Workshop (Midlothian)
DESCRIPTION:Online registration has closed for this workshop.\nPlease reach out to M.V. Ness to be added to the wait list\, or select from another date. \nThank you! \nThis workshop has reached capacity!\nPlease reach out to M.V. Ness to be added to the wait list\, or select from another date. \nThank you!
URL:https://www.crosscreeknursery.com/event/holiday-wreath-workshop-midlothian-5/
LOCATION:Cross Creek – Midlothian\, 501 Courthouse Rd\, Richmond\, VA\, 23236\, United States
CATEGORIES:Midlothian
ORGANIZER;CN="Gaby Bolanos":MAILTO:gaby.bolanos@crosscreeknursery.com
END:VEVENT
BEGIN:VEVENT
DTSTART;TZID=America/New_York:20241129T140000
DTEND;TZID=America/New_York:20241129T150000
DTSTAMP:20260419T103559
CREATED:20241023T154448Z
LAST-MODIFIED:20241023T154448Z
UID:18309-1732888800-1732892400@www.crosscreeknursery.com
SUMMARY:Holiday Wreath Workshop (Midlothian)
DESCRIPTION:Online registration has closed for this workshop.\nPlease reach out to M.V. Ness to be added to the wait list\, or select from another date. \nThank you! \nThis workshop has reached capacity!\nPlease reach out to M.V. Ness to be added to the wait list\, or select from another date. \nThank you!
URL:https://www.crosscreeknursery.com/event/holiday-wreath-workshop-midlothian-5-2/
LOCATION:Cross Creek – Midlothian\, 501 Courthouse Rd\, Richmond\, VA\, 23236\, United States
CATEGORIES:Midlothian
ORGANIZER;CN="Gaby Bolanos":MAILTO:gaby.bolanos@crosscreeknursery.com
END:VEVENT
BEGIN:VEVENT
DTSTART;TZID=America/New_York:20241130T100000
DTEND;TZID=America/New_York:20241130T110000
DTSTAMP:20260419T103559
CREATED:20241106T142249Z
LAST-MODIFIED:20241106T142249Z
UID:16865-1732960800-1732964400@www.crosscreeknursery.com
SUMMARY:Kid's Workshop (Midlothian): Dried Oranges - Fox Ornaments
DESCRIPTION:Dried oranges sewn together and painted to create a festive garland to add to your Christmas tree\, mantle\, or tablescape. What’s better than the fresh citrus smell and some cute foxes?! \nOnline registration has closed for this workshop.\nPlease reach out to M.V. Ness to see if there are available seats. Thank you! \nmv.ness@crosscreeknursery.com \nThis class has reached capacity!\nPlease reach out to M.V. Ness to be added to the wait list\, or select from another available workshop. \nmv.ness@crosscreeknursery.com
URL:https://www.crosscreeknursery.com/event/kids-workshop-midlothian-dried-oranges-fox-ornaments/
LOCATION:Cross Creek – Midlothian\, 501 Courthouse Rd\, Richmond\, VA\, 23236\, United States
CATEGORIES:Kid's,Midlothian
ORGANIZER;CN="Gaby Bolanos":MAILTO:gaby.bolanos@crosscreeknursery.com
END:VEVENT
BEGIN:VEVENT
DTSTART;TZID=America/New_York:20241130T100000
DTEND;TZID=America/New_York:20241130T110000
DTSTAMP:20260419T103559
CREATED:20241106T142249Z
LAST-MODIFIED:20241106T142249Z
UID:18322-1732960800-1732964400@www.crosscreeknursery.com
SUMMARY:Kid's Workshop (Midlothian): Dried Oranges - Fox Ornaments
DESCRIPTION:Dried oranges sewn together and painted to create a festive garland to add to your Christmas tree\, mantle\, or tablescape. What’s better than the fresh citrus smell and some cute foxes?! \nOnline registration has closed for this workshop.\nPlease reach out to M.V. Ness to see if there are available seats. Thank you! \nmv.ness@crosscreeknursery.com \nThis class has reached capacity!\nPlease reach out to M.V. Ness to be added to the wait list\, or select from another available workshop. \nmv.ness@crosscreeknursery.com
URL:https://www.crosscreeknursery.com/event/kids-workshop-midlothian-dried-oranges-fox-ornaments-2/
LOCATION:Cross Creek – Midlothian\, 501 Courthouse Rd\, Richmond\, VA\, 23236\, United States
CATEGORIES:Kid's,Midlothian
ORGANIZER;CN="Gaby Bolanos":MAILTO:gaby.bolanos@crosscreeknursery.com
END:VEVENT
END:VCALENDAR