BEGIN:VCALENDAR
VERSION:2.0
PRODID:-//Cross Creek Nursery and Landscape - ECPv6.15.20//NONSGML v1.0//EN
CALSCALE:GREGORIAN
METHOD:PUBLISH
X-WR-CALNAME:Cross Creek Nursery and Landscape
X-ORIGINAL-URL:https://www.crosscreeknursery.com
X-WR-CALDESC:Events for Cross Creek Nursery and Landscape
REFRESH-INTERVAL;VALUE=DURATION:PT1H
X-Robots-Tag:noindex
X-PUBLISHED-TTL:PT1H
BEGIN:VTIMEZONE
TZID:America/New_York
BEGIN:DAYLIGHT
TZOFFSETFROM:-0500
TZOFFSETTO:-0400
TZNAME:EDT
DTSTART:20250309T070000
END:DAYLIGHT
BEGIN:STANDARD
TZOFFSETFROM:-0400
TZOFFSETTO:-0500
TZNAME:EST
DTSTART:20251102T060000
END:STANDARD
BEGIN:DAYLIGHT
TZOFFSETFROM:-0500
TZOFFSETTO:-0400
TZNAME:EDT
DTSTART:20260308T070000
END:DAYLIGHT
BEGIN:STANDARD
TZOFFSETFROM:-0400
TZOFFSETTO:-0500
TZNAME:EST
DTSTART:20261101T060000
END:STANDARD
BEGIN:DAYLIGHT
TZOFFSETFROM:-0500
TZOFFSETTO:-0400
TZNAME:EDT
DTSTART:20270314T070000
END:DAYLIGHT
BEGIN:STANDARD
TZOFFSETFROM:-0400
TZOFFSETTO:-0500
TZNAME:EST
DTSTART:20271107T060000
END:STANDARD
END:VTIMEZONE
BEGIN:VEVENT
DTSTART;VALUE=DATE:20260402
DTEND;VALUE=DATE:20260403
DTSTAMP:20260420T084142
CREATED:20260209T194735Z
LAST-MODIFIED:20260324T195915Z
UID:22486-1775088000-1775174399@www.crosscreeknursery.com
SUMMARY:Spring Break: Reptile Roundup Event (Midlothian)
DESCRIPTION:Join us on Thursday\, April 2nd for The Reptile Roundup Event!\n📍: Cross Creek – Midlothian (501 Courthouse Rd\, Richmond\, VA 23236)\nGet ready for an exciting\, wild adventure with the Reptile Roundup Event! This immersive experience invites reptile enthusiasts and families alike to explore the fascinating world of reptiles in a unique\, up-close setting. \nMeet a variety of snakes\, lizards\, turtles\, and more\, as expert herpetologists guide you through interactive exhibits and educational talks. Whether you’re a seasoned reptile lover or just curious to learn more. Don’t miss this chance to get hands-on and connect with the reptiles! \n🎟️: Tickets are $20 each and include a craft & Reptile Event experience with Scaly Tails.**parents are not required tickets \nHave any questions?! Please reach out to Gaby Bolanos gaby.bolanos@crosscreeknursery.com \n  \n  \n			\n			\n				\n				\n				\n				\n				\n				\n				\n				\n				\n				Register to attend:\nOnline registration has closed for this workshop. \nWe're sorry\, this class has reached capacity!\nFeel free to select from another available workshop. \ngaby.bolanos@crosscreeknursery.com
URL:https://www.crosscreeknursery.com/event/spring-break-reptile-roundup-event-midlothian/
LOCATION:Cross Creek – Midlothian\, 501 Courthouse Rd\, Richmond\, VA\, 23236\, United States
CATEGORIES:Kid's,Midlothian
ATTACH;FMTTYPE=image/jpeg:https://www.crosscreeknursery.com/wp-content/uploads/2026/02/Spring-Break-@-Cross-Creek.jpg
END:VEVENT
END:VCALENDAR