BEGIN:VCALENDAR
VERSION:2.0
PRODID:-//Cross Creek Nursery and Landscape - ECPv6.15.20//NONSGML v1.0//EN
CALSCALE:GREGORIAN
METHOD:PUBLISH
X-WR-CALNAME:Cross Creek Nursery and Landscape
X-ORIGINAL-URL:https://www.crosscreeknursery.com
X-WR-CALDESC:Events for Cross Creek Nursery and Landscape
REFRESH-INTERVAL;VALUE=DURATION:PT1H
X-Robots-Tag:noindex
X-PUBLISHED-TTL:PT1H
BEGIN:VTIMEZONE
TZID:America/New_York
BEGIN:DAYLIGHT
TZOFFSETFROM:-0500
TZOFFSETTO:-0400
TZNAME:EDT
DTSTART:20240310T070000
END:DAYLIGHT
BEGIN:STANDARD
TZOFFSETFROM:-0400
TZOFFSETTO:-0500
TZNAME:EST
DTSTART:20241103T060000
END:STANDARD
BEGIN:DAYLIGHT
TZOFFSETFROM:-0500
TZOFFSETTO:-0400
TZNAME:EDT
DTSTART:20250309T070000
END:DAYLIGHT
BEGIN:STANDARD
TZOFFSETFROM:-0400
TZOFFSETTO:-0500
TZNAME:EST
DTSTART:20251102T060000
END:STANDARD
BEGIN:DAYLIGHT
TZOFFSETFROM:-0500
TZOFFSETTO:-0400
TZNAME:EDT
DTSTART:20260308T070000
END:DAYLIGHT
BEGIN:STANDARD
TZOFFSETFROM:-0400
TZOFFSETTO:-0500
TZNAME:EST
DTSTART:20261101T060000
END:STANDARD
END:VTIMEZONE
BEGIN:VEVENT
DTSTART;VALUE=DATE:20251025
DTEND;VALUE=DATE:20251027
DTSTAMP:20260420T101556
CREATED:20250827T154926Z
LAST-MODIFIED:20251008T153836Z
UID:18386-1761350400-1761523199@www.crosscreeknursery.com
SUMMARY:Fall Fest 2025!
DESCRIPTION:🍂 Fall Fest at Cross Creek 🍂Celebrate the season with us every weekend at both Cross Creek locations!Starting September 20 through October 26\, the garden will be alive with: \n🎃 Pumpkins of all shapes and sizes🌼 Fresh mums and pansies for your fall plantings🍴 Food Trucks🍁 Family fun\, festive displays\, and all things Cross Creek! \nOctober 25 – October 26 \n			\n			\n				\n				\n				\n				\n				\n				\n				\n				\n				\n				No need to register. \nBring your friends\, family\, and fall spirit — the celebration lasts all season long!
URL:https://www.crosscreeknursery.com/event/fall-fest-2025-5/
CATEGORIES:Kid's,Midlothian,West End
ATTACH;FMTTYPE=image/jpeg:https://www.crosscreeknursery.com/wp-content/uploads/2025/08/cross-creek-fall-fest-2025-image.jpg
END:VEVENT
END:VCALENDAR